BEGIN:VCALENDAR
VERSION:2.0
PRODID:-//RIWEGA - ECPv4.6.8//NONSGML v1.0//EN
CALSCALE:GREGORIAN
METHOD:PUBLISH
X-WR-CALNAME:RIWEGA
X-ORIGINAL-URL:https://www.riwega.com/fr
X-WR-CALDESC:Events for RIWEGA
BEGIN:VEVENT
DTSTART;VALUE=DATE:20241121
DTEND;VALUE=DATE:20241124
DTSTAMP:20260419T202416
CREATED:20240724T095408Z
LAST-MODIFIED:20240724T100113Z
UID:100087-1732147200-1732406399@www.riwega.com
SUMMARY:Restructura
DESCRIPTION:[vc_row][vc_column] \nRestructura\n[vc_column_text] \n\nRenovation. Recovery. Regeneration: the three R’s of Restructura\nRestructura will be the natural home where companies\, designers\, technicians\, builders\, craftsmen\, investors and property managers come together because they believe in regenerative building and in just one way of doing things: well\, in step with the times\, respecting people and the environment.\nRiwega\, 3therm and RoofRox are looking forward of seeing you inside the Klimahouse Village!\n\n[/vc_column_text][/vc_column][/vc_row] \n
URL:https://www.riwega.com/fr/evento/restructura-3/
LOCATION:Lingotto Fiere\, Torino\, Italia
CATEGORIES:Foires achevées
ATTACH;FMTTYPE=image/jpeg:https://www.riwega.com/wp-content/uploads/2024/07/Logo-Restructura.jpg
END:VEVENT
END:VCALENDAR