BEGIN:VCALENDAR
VERSION:2.0
PRODID:-//RIWEGA - ECPv4.6.8//NONSGML v1.0//EN
CALSCALE:GREGORIAN
METHOD:PUBLISH
X-WR-CALNAME:RIWEGA
X-ORIGINAL-URL:https://www.riwega.com/fr
X-WR-CALDESC:Events for RIWEGA
BEGIN:VEVENT
DTSTART;VALUE=DATE:20240424
DTEND;VALUE=DATE:20240426
DTSTAMP:20260426T030413
CREATED:20240129T144537Z
LAST-MODIFIED:20240129T152328Z
UID:97226-1713916800-1714089599@www.riwega.com
SUMMARY:Forum Holzbau - Bauphysik & Gebäudetechnik
DESCRIPTION:[vc_row][vc_column] \nForum Holzbau Bauphysik & Gebäudetechnik\n[vc_column_text] \nThe goal and task of the Holzbau Forum Building physics & building technology is the promotion of the use of wood in the construction industry\, surplus funds are used in the sense of the timber industry for the support of research and development projects of students.\nRiwega is looking forward of seeing you!\n[/vc_column_text][/vc_column][/vc_row] \n
URL:https://www.riwega.com/fr/evento/forum-holzbau-bauphysik-gebaudetechnik/
LOCATION:Graf-Zeppelin-Haus\, Olgastrasse 20\, Friedrichshafen\, 88045\, Germania
CATEGORIES:Foires achevées
ATTACH;FMTTYPE=image/jpeg:https://www.riwega.com/wp-content/uploads/2022/01/Logo-Forum-Holzbau-Garmisch-web.jpg
END:VEVENT
END:VCALENDAR