BEGIN:VCALENDAR
VERSION:2.0
PRODID:-//RIWEGA - ECPv4.6.8//NONSGML v1.0//EN
CALSCALE:GREGORIAN
METHOD:PUBLISH
X-WR-CALNAME:RIWEGA
X-ORIGINAL-URL:https://www.riwega.com
X-WR-CALDESC:Events for RIWEGA
BEGIN:VEVENT
DTSTART;TZID=UTC+2:20241010T090000
DTEND;TZID=UTC+2:20241010T170000
DTSTAMP:20260420T011142
CREATED:20240927T095207Z
LAST-MODIFIED:20241014T085611Z
UID:101281-1728550800-1728579600@www.riwega.com
SUMMARY:Sustainability Day" alla Certosa di Firenze
DESCRIPTION:[vc_row][vc_column][/vc_column][/vc_row][vc_row][vc_column] \n“Sustainability Day” alla Certosa di Firenze.\n[vc_column_text]Data: 10.10.2024\nOrario: 09:00 – 17:00\nLuogo: Certosa di Firenze – Via Certosa 1\, Firenze[/vc_column_text]Iscriviti \n\n	\nScarica il programma   [/vc_column][/vc_row] \n
URL:https://www.riwega.com/evento/sustainability-day-alla-certosa-di-firenze/
LOCATION:Via della Certosa 1\, Firenze\, Firenze\, Italia
CATEGORIES:Corsi conclusi
ATTACH;FMTTYPE=image/jpeg:https://www.riwega.com/wp-content/uploads/2024/09/10.10.24-_-opendaydellasostenibilità.jpg
ORGANIZER;CN="Bioarchitettura":MAILTO:info@bioarchitettura.org
END:VEVENT
END:VCALENDAR