BEGIN:VCALENDAR
VERSION:2.0
PRODID:-//RIWEGA - ECPv4.6.8//NONSGML v1.0//EN
CALSCALE:GREGORIAN
METHOD:PUBLISH
X-WR-CALNAME:RIWEGA
X-ORIGINAL-URL:https://www.riwega.com
X-WR-CALDESC:Events for RIWEGA
BEGIN:VEVENT
DTSTART;TZID=UTC+2:20240524T083000
DTEND;TZID=UTC+2:20240524T180000
DTSTAMP:20260426T025745
CREATED:20240418T094122Z
LAST-MODIFIED:20240603T111417Z
UID:99094-1716539400-1716573600@www.riwega.com
SUMMARY:SEMINARIO DI SPECIALIZZAZIONE PER PROGETTISTI - Cermenate (CO)
DESCRIPTION:[vc_row][vc_column][/vc_column][/vc_row][vc_row][vc_column] \nSEMINARIO DI SPECIALIZZAZIONE PER PROGETTISTI: sistemi anticaduta.\n[vc_column_text]Data: 24.05.2024\nOrario: 08:30 – 18:00\nLuogo: Hotel Gardenia Fiera – Via Maestri Comacini 22\, Cermenate (CO)[/vc_column_text]Iscriviti al corso \n\n	\nScarica il programma   [/vc_column][/vc_row] \n
URL:https://www.riwega.com/evento/seminario-di-specializzazione-per-progettisti-cermenate-co/
LOCATION:Via Maestri Comacini 22\, Cermenate\, Como\, Italia
CATEGORIES:Corsi conclusi
ATTACH;FMTTYPE=image/jpeg:https://www.riwega.com/wp-content/uploads/2024/04/Locandina-progettisti-safetymania-24_05_page-0001.jpg
ORGANIZER;CN="Riwega":MAILTO:info@riwega.com
END:VEVENT
END:VCALENDAR