BEGIN:VCALENDAR
VERSION:2.0
PRODID:-//RIWEGA - ECPv4.6.8//NONSGML v1.0//EN
CALSCALE:GREGORIAN
METHOD:PUBLISH
X-WR-CALNAME:RIWEGA
X-ORIGINAL-URL:https://www.riwega.com
X-WR-CALDESC:Events for RIWEGA
BEGIN:VEVENT
DTSTART;TZID=UTC+2:20240920T100000
DTEND;TZID=UTC+2:20240920T130000
DTSTAMP:20260420T025335
CREATED:20240821T090110Z
LAST-MODIFIED:20240927T094027Z
UID:100955-1726826400-1726837200@www.riwega.com
SUMMARY:Protocollo LEED For Homes e prestazioni dell’involucro
DESCRIPTION:[vc_row][vc_column][/vc_column][/vc_row][vc_row][vc_column] \nProtocollo LEED For Homes e prestazioni dell’involucro.\n[vc_column_text]Data: 20.09.2024\nOrario: 10:00 – 13:00\nLuogo: Progetto Manifattura – Piazza Manifattura 1 Rovereto 38068 TN[/vc_column_text]Iscriviti \n\n	\nScarica il programma   [/vc_column][/vc_row] \n
URL:https://www.riwega.com/evento/protocollo-leed-for-homes-e-prestazioni-dellinvolucro/
LOCATION:Piazza Manifattura 1\, Rovereto\, Trento\, 38068\, Italia
CATEGORIES:Corsi conclusi
ATTACH;FMTTYPE=image/jpeg:https://www.riwega.com/wp-content/uploads/2024/08/Chapter-TNAA-Evento-240920_LEED-for-homes_Locandina_page-0001.jpg
END:VEVENT
END:VCALENDAR