BEGIN:VCALENDAR
VERSION:2.0
PRODID:-//RIWEGA - ECPv4.6.8//NONSGML v1.0//EN
CALSCALE:GREGORIAN
METHOD:PUBLISH
X-WR-CALNAME:RIWEGA
X-ORIGINAL-URL:https://www.riwega.com
X-WR-CALDESC:Events for RIWEGA
BEGIN:VEVENT
DTSTART;TZID=UTC+2:20240919T160000
DTEND;TZID=UTC+2:20240919T200000
DTSTAMP:20260420T045507
CREATED:20240730T064050Z
LAST-MODIFIED:20240920T093157Z
UID:100105-1726761600-1726776000@www.riwega.com
SUMMARY:nZEB TOUR – Bari
DESCRIPTION:[vc_row][vc_column][/vc_column][/vc_row][vc_row][vc_column] \nnZEB TOUR – PROGETTARE E REALIZZARE EDIFICI SOSTENIBILI\, SALUBRI E DUREVOLI.\n[vc_column_text]Data: 19.09.2024\nOrario: 16:00 – 20:00\nLuogo: Presso il Leonardo Trulli Resort – S.C. 54 C. da Semerano 107\, 70010 Locorotondo (BA)[/vc_column_text]Iscriviti \n\n	\nScarica il programma   [/vc_column][/vc_row] \n
URL:https://www.riwega.com/evento/nzeb-tour-bari/
LOCATION:S.C. 54 C. da Semerano 107\, Locorotondo\, Bari\, 70010\, Italia
CATEGORIES:Corsi conclusi
ATTACH;FMTTYPE=image/jpeg:https://www.riwega.com/wp-content/uploads/2024/07/nZEB-Tour-19_09_24-versione2_page-0001.jpg
ORGANIZER;CN="Riwega":MAILTO:info@riwega.com
END:VEVENT
END:VCALENDAR