BEGIN:VCALENDAR
VERSION:2.0
PRODID:-//RIWEGA - ECPv4.6.8//NONSGML v1.0//EN
CALSCALE:GREGORIAN
METHOD:PUBLISH
X-WR-CALNAME:RIWEGA
X-ORIGINAL-URL:https://www.riwega.com
X-WR-CALDESC:Events for RIWEGA
BEGIN:VEVENT
DTSTART;TZID=UTC+2:20241104T090000
DTEND;TZID=UTC+2:20241104T130000
DTSTAMP:20260420T011219
CREATED:20241017T112024Z
LAST-MODIFIED:20241106T141004Z
UID:101514-1730710800-1730725200@www.riwega.com
SUMMARY:L’INVOLUCRO EDILIZIO A REGOLA D’ARTE - Forlimpopoli
DESCRIPTION:[vc_row][vc_column][/vc_column][/vc_row][vc_row][vc_column] \nL’INVOLUCRO EDILIZIO A REGOLA D’ARTE.\n[vc_column_text]Data: 04.11.2024\nOrario: 09:00 – 13:00\nLuogo: Scuola Edile Artigiana Romagna – Via Maestri del Lavoro d’Italia 129\, 47034 Forlimpopoli (FC)[/vc_column_text]Iscriviti al corso \n\n	\nScarica il programma   [/vc_column][/vc_row] \n
URL:https://www.riwega.com/evento/linvolucro-edilizio-a-regola-darte-forlimpopoli/
LOCATION:Via Maestri del Lavoro d’Italia 129\, Forlimpopoli\, Forlì Cesena\, 47034\, Italia
CATEGORIES:Corsi conclusi
ATTACH;FMTTYPE=image/jpeg:https://www.riwega.com/wp-content/uploads/2024/10/Locandina-Seminario-Romagna-Ergepearl-04_11_page-0001.jpg
ORGANIZER;CN="Riwega":MAILTO:info@riwega.com
END:VEVENT
END:VCALENDAR