BEGIN:VCALENDAR
VERSION:2.0
PRODID:-//RIWEGA - ECPv4.6.8//NONSGML v1.0//EN
CALSCALE:GREGORIAN
METHOD:PUBLISH
X-WR-CALNAME:RIWEGA
X-ORIGINAL-URL:https://www.riwega.com
X-WR-CALDESC:Events for RIWEGA
BEGIN:VEVENT
DTSTART;TZID=UTC+2:20250506T143000
DTEND;TZID=UTC+2:20250506T183000
DTSTAMP:20260425T103117
CREATED:20250409T115926Z
LAST-MODIFIED:20250516T071411Z
UID:108695-1746541800-1746556200@www.riwega.com
SUMMARY:3 CFP - LEGNO\, COSTRUIRE\, ABITARE - Viterbo
DESCRIPTION:[vc_row][vc_column][/vc_column][/vc_row][vc_row][vc_column] \nGarantire la durabilità negli edifici in legno con\nla corretta realizzazione dell’involucro\n[vc_column_text]Data: 06.05.2025\nOrario: 14:30 – 18:30\nLuogo: Presso Spazio Formazione\, Via Treviso 44/50 – 01100 Viterbo (VT)[/vc_column_text]Iscriviti \n\n	\nScarica il programma   [/vc_column][/vc_row] \n
URL:https://www.riwega.com/evento/legno-costruire-abitare-viterbo/
LOCATION:Via Treviso 44/50\, Viterbo\, Viterbo\, 01100\, Italia
CATEGORIES:Corsi conclusi
ATTACH;FMTTYPE=image/jpeg:https://www.riwega.com/wp-content/uploads/2025/04/Locandina-Ingegneri-Viterbo-06_05_page-0001-2.jpg
ORGANIZER;CN="Riwega":MAILTO:info@riwega.com
END:VEVENT
END:VCALENDAR