BEGIN:VCALENDAR
VERSION:2.0
PRODID:-//RIWEGA - ECPv4.6.8//NONSGML v1.0//EN
CALSCALE:GREGORIAN
METHOD:PUBLISH
X-WR-CALNAME:RIWEGA
X-ORIGINAL-URL:https://www.riwega.com
X-WR-CALDESC:Events for RIWEGA
BEGIN:VEVENT
DTSTART;TZID=UTC+2:20250904T150000
DTEND;TZID=UTC+2:20250904T173000
DTSTAMP:20260426T003333
CREATED:20250612T094403Z
LAST-MODIFIED:20250930T071311Z
UID:111432-1756998000-1757007000@www.riwega.com
SUMMARY:FISICA TECNICA DELL’INVOLUCRO EDILIZIO - Bellinzona\, Svizzera
DESCRIPTION:[vc_row][vc_column][/vc_column][/vc_row][vc_row][vc_column] \nCome costruire e proteggere per garantire comfort e durabilità.\n[vc_column_text]Data: 04.09.2025\nOrario: 15:00 – 17:30\nLuogo: Presso Hotel Unione\, Via Henri Guisan 1 – 6500 Bellinzona\, Svizzera[/vc_column_text]Iscriviti al corso \n\n	\nScarica il programma   [/vc_column][/vc_row] \n
URL:https://www.riwega.com/evento/fisica-tecnica-dellinvolucro-edilizio-bellinzona-svizzera/
LOCATION:Via Henri Guisan 1\, Bellinzona\, 6500\, Svizzera
CATEGORIES:Corsi conclusi
ATTACH;FMTTYPE=image/jpeg:https://www.riwega.com/wp-content/uploads/2025/06/Locandina-Tecnopartners-04_09_page-0001.jpg
ORGANIZER;CN="Riwega":MAILTO:info@riwega.com
END:VEVENT
END:VCALENDAR