BEGIN:VCALENDAR
VERSION:2.0
PRODID:-//RIWEGA - ECPv4.6.8//NONSGML v1.0//EN
CALSCALE:GREGORIAN
METHOD:PUBLISH
X-WR-CALNAME:RIWEGA
X-ORIGINAL-URL:https://www.riwega.com
X-WR-CALDESC:Events for RIWEGA
BEGIN:VEVENT
DTSTART;TZID=UTC+2:20240412T090000
DTEND;TZID=UTC+2:20240412T170000
DTSTAMP:20260426T024120
CREATED:20240315T102026Z
LAST-MODIFIED:20240418T083449Z
UID:97682-1712912400-1712941200@www.riwega.com
SUMMARY:CORSO PER POSATORI – Linea Vita Tecnica e pratica
DESCRIPTION:[vc_row][vc_column][/vc_column][/vc_row][vc_row][vc_column] \nCORSO PER POSATORI – Linea Vita Tecnica e pratica.\n[vc_column_text]Data: 12.04.2024\nOrario: 09:00 – 17:00\nLuogo: sede RoofRox – Via Lazio 14\, Lentate sul Seveso (MB)[/vc_column_text]Iscriviti al corso \n\n	\nScarica il programma   [/vc_column][/vc_row] \n
URL:https://www.riwega.com/evento/corso-per-posatori-linea-vita-tecnica-e-pratica-3/
LOCATION:Via Lazio 14\, Lentate sul Seveso\, Monza Brianza\, 20823\, Italia
CATEGORIES:Corsi conclusi
ATTACH;FMTTYPE=image/jpeg:https://www.riwega.com/wp-content/uploads/2024/03/Locandina-Roofrox-safetymania-12_04_page-0001.jpg
ORGANIZER;CN="Riwega":MAILTO:info@riwega.com
END:VEVENT
END:VCALENDAR