BEGIN:VCALENDAR
VERSION:2.0
PRODID:-//RIWEGA - ECPv4.6.8//NONSGML v1.0//EN
CALSCALE:GREGORIAN
METHOD:PUBLISH
X-WR-CALNAME:RIWEGA
X-ORIGINAL-URL:https://www.riwega.com
X-WR-CALDESC:Events for RIWEGA
BEGIN:VEVENT
DTSTART;TZID=UTC+2:20240315T090000
DTEND;TZID=UTC+2:20240315T170000
DTSTAMP:20260426T040229
CREATED:20240226T103054Z
LAST-MODIFIED:20240322T133338Z
UID:97410-1710493200-1710522000@www.riwega.com
SUMMARY:CORSO PER POSATORI - Linea Vita Tecnica e pratica
DESCRIPTION:[vc_row][vc_column][/vc_column][/vc_row][vc_row][vc_column] \nCORSO PER POSATORI – Linea Vita Tecnica e pratica.\n[vc_column_text]Data: 15.03.2024\nOrario: 09:00 – 17:00\nLuogo: sede RoofRox – Via Lazio 14\, Lentate sul Seveso (MB)[/vc_column_text]Iscriviti al corso \n\n	\nScarica il programma   [/vc_column][/vc_row] \n
URL:https://www.riwega.com/evento/corso-per-posatori-linea-vita-tecnica-e-pratica-2/
LOCATION:Via Lazio 14\, Lentate sul Seveso\, Monza Brianza\, 20823\, Italia
CATEGORIES:Corsi conclusi
ATTACH;FMTTYPE=image/jpeg:https://www.riwega.com/wp-content/uploads/2024/02/Locandina-Roofrox-safetymania-15_03_page-0001.jpg
ORGANIZER;CN="Riwega":MAILTO:info@riwega.com
END:VEVENT
END:VCALENDAR