BEGIN:VCALENDAR
VERSION:2.0
PRODID:-//RIWEGA - ECPv4.6.8//NONSGML v1.0//EN
CALSCALE:GREGORIAN
METHOD:PUBLISH
X-WR-CALNAME:RIWEGA
X-ORIGINAL-URL:https://www.riwega.com
X-WR-CALDESC:Events for RIWEGA
BEGIN:VEVENT
DTSTART;TZID=UTC+2:20251128T083000
DTEND;TZID=UTC+2:20251128T170000
DTSTAMP:20260425T214128
CREATED:20251028T134955Z
LAST-MODIFIED:20251201T125538Z
UID:116393-1764318600-1764349200@www.riwega.com
SUMMARY:CORSO DI SPECIALIZZAZIONE RASENFIX
DESCRIPTION:[vc_row][vc_column][/vc_column][/vc_row][vc_row][vc_column] \nFormazione di specializzazione sul tetto piano e verde.\n[vc_column_text]Data: 28.11.2025\nOrario: 08:30 – 17:00\nLuogo: Sede Riwega srl – Via Isola di Sopra 28\, Egna (BZ)[/vc_column_text]Iscriviti al corso [/vc_column][/vc_row] \n
URL:https://www.riwega.com/evento/corso-di-specializzazione-rasenfix-2/
LOCATION:via Isola di Sopra 28\, 39044 Egna (BZ)\, Italia
GEO:46.320883;11.2625844
X-APPLE-STRUCTURED-LOCATION;VALUE=URI;X-ADDRESS=via Isola di Sopra 28 39044 Egna (BZ) Italia;X-APPLE-RADIUS=500;X-TITLE=via Isola di Sopra 28:geo:11.2625844,46.320883
CATEGORIES:Corsi conclusi
ATTACH;FMTTYPE=image/png:https://www.riwega.com/wp-content/uploads/2025/05/Rasenfix.png
END:VEVENT
END:VCALENDAR