BEGIN:VCALENDAR
VERSION:2.0
PRODID:-//RIWEGA - ECPv4.6.8//NONSGML v1.0//EN
CALSCALE:GREGORIAN
METHOD:PUBLISH
X-WR-CALNAME:RIWEGA
X-ORIGINAL-URL:https://www.riwega.com
X-WR-CALDESC:Events for RIWEGA
BEGIN:VEVENT
DTSTART;TZID=UTC+2:20251016T090000
DTEND;TZID=UTC+2:20251016T170000
DTSTAMP:20260425T231125
CREATED:20250930T075507Z
LAST-MODIFIED:20251024T070926Z
UID:116125-1760605200-1760634000@www.riwega.com
SUMMARY:Convegno IGP Lombardia - Brescia
DESCRIPTION:[vc_row][vc_column][/vc_column][/vc_row][vc_row][vc_column] \nCONVEGNO REGIONALE 2025.\n[vc_column_text]Data: 16.10.2025\nOrario: 09:00 – 17:00\nLuogo: ESEB – Via della Garzetta 51\, Brescia[/vc_column_text]Iscriviti \n\n	\nScarica il programma   [/vc_column][/vc_row] \n
URL:https://www.riwega.com/evento/convegno-igp-lombardia-brescia/
LOCATION:Via della Garzetta 51\, Brescia\, Brescia\, Italia
CATEGORIES:Corsi conclusi
ATTACH;FMTTYPE=image/jpeg:https://www.riwega.com/wp-content/uploads/2025/09/Convegno-IGP-Lombardia-16.10.25_page-0001.jpg
END:VEVENT
END:VCALENDAR