BEGIN:VCALENDAR
VERSION:2.0
PRODID:-//RIWEGA - ECPv4.6.8//NONSGML v1.0//EN
CALSCALE:GREGORIAN
METHOD:PUBLISH
X-WR-CALNAME:RIWEGA
X-ORIGINAL-URL:https://www.riwega.com
X-WR-CALDESC:Events for RIWEGA
BEGIN:VEVENT
DTSTART;TZID=UTC+2:20240607T100000
DTEND;TZID=UTC+2:20240607T153000
DTSTAMP:20260426T014331
CREATED:20240517T074139Z
LAST-MODIFIED:20240612T104913Z
UID:99393-1717754400-1717774200@www.riwega.com
SUMMARY:Convegno Deus 2024 - Verona
DESCRIPTION:[vc_row][vc_column][/vc_column][/vc_row][vc_row][vc_column] \nFORMARE\, PER-FORMARE\, INFORMARE.\n[vc_column_text]Data: 07.06.2024\nOrario: 10:00 – 15:30\nLuogo: Hotel Veronesi la Torre (VR)[/vc_column_text]Iscriviti \n\n	\nScarica il programma   [/vc_column][/vc_row] \n
URL:https://www.riwega.com/evento/convegno-deus-2024-verona/
LOCATION:Verona\, Italia
CATEGORIES:Corsi conclusi
ATTACH;FMTTYPE=image/jpeg:https://www.riwega.com/wp-content/uploads/2024/05/invito-ufficiale-7-giugno-2024_page-0001.jpg
END:VEVENT
END:VCALENDAR