BEGIN:VCALENDAR
VERSION:2.0
PRODID:-//RIWEGA - ECPv4.6.8//NONSGML v1.0//EN
CALSCALE:GREGORIAN
METHOD:PUBLISH
X-WR-CALNAME:RIWEGA
X-ORIGINAL-URL:https://www.riwega.com
X-WR-CALDESC:Events for RIWEGA
BEGIN:VEVENT
DTSTART;TZID=UTC+2:20241024T093000
DTEND;TZID=UTC+2:20241024T170000
DTSTAMP:20260419T232559
CREATED:20240920T094044Z
LAST-MODIFIED:20241106T140952Z
UID:101264-1729762200-1729789200@www.riwega.com
SUMMARY:CasaClima.Network.Day – Cosenza
DESCRIPTION:[vc_row][vc_column][/vc_column][/vc_row][vc_row][vc_column] \nCasaClima.Network.Day.\n[vc_column_text]Data: 24.10.2024\nOrario: 09:30 – 17:30\nLuogo: Best Western Premier Villa Fabiano Palace Hotel Via Cristoforo Colombo\, ss 19 – 87036 – Rende (CS)[/vc_column_text]Iscriviti \n\n	\nScarica il programma   [/vc_column][/vc_row] \n
URL:https://www.riwega.com/evento/casaclima-network-day-cosenza/
LOCATION:Via Cristoforo Colombo\, ss 19\, Rende\, Cosenza\, 87036\, Italia
CATEGORIES:Corsi conclusi
ATTACH;FMTTYPE=image/jpeg:https://www.riwega.com/wp-content/uploads/2024/09/D3_Cosenza-2024_CasaClima-Day_programma_page-0001.jpg
ORGANIZER;CN="Agenzia%20CasaClima":MAILTO:info@casaclimatour.it
END:VEVENT
END:VCALENDAR