BEGIN:VCALENDAR
VERSION:2.0
PRODID:-//RIWEGA - ECPv4.6.8//NONSGML v1.0//EN
CALSCALE:GREGORIAN
METHOD:PUBLISH
X-WR-CALNAME:RIWEGA
X-ORIGINAL-URL:https://www.riwega.com
X-WR-CALDESC:Events for RIWEGA
BEGIN:VEVENT
DTSTART;TZID=UTC+2:20241114T150000
DTEND;TZID=UTC+2:20241114T190000
DTSTAMP:20260419T202212
CREATED:20241024T124414Z
LAST-MODIFIED:20241118T104158Z
UID:101631-1731596400-1731610800@www.riwega.com
SUMMARY:Build in TRENTINO: strumenti normativi e progettuali
DESCRIPTION:[vc_row][vc_column][/vc_column][/vc_row][vc_row][vc_column] \nBuild in TRENTINO: strumenti normativi e progettuali.\n[vc_column_text]Data: 14.11.2024\nOrario: 15:00 – 19:00\nLuogo: Cantina ROTARI – via del Teroldego 1/E – Mezzocorona (TN)[/vc_column_text]Iscriviti \n\n	\nVisualizza il programma   [/vc_column][/vc_row] \n
URL:https://www.riwega.com/evento/build-in-trentino-strumenti-normativi-e-progettuali/
LOCATION:via del Teroldego 1/E\, Mezzocorona\, Trento\, Italia
CATEGORIES:Corsi conclusi
ATTACH;FMTTYPE=image/jpeg:https://www.riwega.com/wp-content/uploads/2024/10/Build-in-Trentino-14_11-Riwega.jpg
END:VEVENT
END:VCALENDAR