BEGIN:VCALENDAR
VERSION:2.0
PRODID:-//RIWEGA - ECPv4.6.8//NONSGML v1.0//EN
CALSCALE:GREGORIAN
METHOD:PUBLISH
X-WR-CALNAME:RIWEGA
X-ORIGINAL-URL:https://www.riwega.com
X-WR-CALDESC:Events for RIWEGA
BEGIN:VEVENT
DTSTART;TZID=UTC+2:20250923T090000
DTEND;TZID=UTC+2:20250923T170000
DTSTAMP:20260426T002942
CREATED:20250904T112422Z
LAST-MODIFIED:20250930T071230Z
UID:116033-1758618000-1758646800@www.riwega.com
SUMMARY:Arca Tour - Pescara
DESCRIPTION:[vc_row][vc_column][/vc_column][/vc_row][vc_row][vc_column] \nIL FUTURO DEL LEGNO IN EDILIZIA – VERSO EDIFICI A EMISSIONI ZERO.\n[vc_column_text]Data: 23.09.2025\nOrario: 09:00 – 17:00\nLuogo: HOTEL PROMENADE – Viale Aldo Moro 63\, Montesilvano (PE)[/vc_column_text]Iscriviti \n\n	\nScarica il programma   [/vc_column][/vc_row] \n
URL:https://www.riwega.com/evento/arca-tour-pescara-2/
LOCATION:Viale Aldo Moro\, 63\, Montesilvano\, Pescara\, Italia
CATEGORIES:Corsi conclusi
ATTACH;FMTTYPE=image/jpeg:https://www.riwega.com/wp-content/uploads/2025/09/Locandina-ARCA-TOUR-PESCARA_page-0001-1.jpg
END:VEVENT
END:VCALENDAR