BEGIN:VCALENDAR
VERSION:2.0
PRODID:-//RIWEGA - ECPv4.6.8//NONSGML v1.0//EN
CALSCALE:GREGORIAN
METHOD:PUBLISH
X-WR-CALNAME:RIWEGA
X-ORIGINAL-URL:https://www.riwega.com
X-WR-CALDESC:Events for RIWEGA
BEGIN:VEVENT
DTSTART;TZID=UTC+2:20240409T083000
DTEND;TZID=UTC+2:20240409T160000
DTSTAMP:20260426T035946
CREATED:20240325T095209Z
LAST-MODIFIED:20240412T125821Z
UID:97747-1712651400-1712678400@www.riwega.com
SUMMARY:Arca in Tour - Torino
DESCRIPTION:[vc_row][vc_column][/vc_column][/vc_row][vc_row][vc_column] \nPENSARE\, COSTRUIRE\, ABITARE: il legno per l’abitare del domani.\n[vc_column_text]Data: 09.04.2024\nOrario: 08:30 – 16:00\nLuogo: Cantine Balbiano – C.so Vittorio Emanuele II\, 1\, Andezeno TORINO[/vc_column_text]Iscriviti \n\n	\nScarica il programma   [/vc_column][/vc_row] \n
URL:https://www.riwega.com/evento/arca-in-tour-torino/
LOCATION:C.so Vittorio Emanuele II\, 1\,\, Andezeno\, Torino\, Italia
CATEGORIES:Corsi conclusi
ATTACH;FMTTYPE=image/jpeg:https://www.riwega.com/wp-content/uploads/2024/03/Locandina_ARCA_Torino_3__page-0001.jpg
END:VEVENT
END:VCALENDAR