BEGIN:VCALENDAR
VERSION:2.0
PRODID:-//RIWEGA - ECPv4.6.8//NONSGML v1.0//EN
CALSCALE:GREGORIAN
METHOD:PUBLISH
X-WR-CALNAME:RIWEGA
X-ORIGINAL-URL:https://www.riwega.com
X-WR-CALDESC:Events for RIWEGA
BEGIN:VEVENT
DTSTART;TZID=UTC+2:20240410T083000
DTEND;TZID=UTC+2:20240410T160000
DTSTAMP:20260426T024040
CREATED:20240325T095957Z
LAST-MODIFIED:20240412T125812Z
UID:97760-1712737800-1712764800@www.riwega.com
SUMMARY:Arca in Tour – Alessandria
DESCRIPTION:[vc_row][vc_column][/vc_column][/vc_row][vc_row][vc_column] \nPENSARE\, COSTRUIRE\, ABITARE: il legno per l’abitare del domani..\n[vc_column_text]Data: 10.04.2024\nOrario: 08:30 – 16:00\nLuogo: Tenuta La Fiscala – Via Frugarolo 142\, Spinetta Marengo Alessandria[/vc_column_text]Iscriviti \n\n	\nScarica il programma   [/vc_column][/vc_row] \n
URL:https://www.riwega.com/evento/arca-in-tour-torino-2/
LOCATION:Via Frugarolo 142\, Spinetta Marengo\, Alessandria\, Italia
CATEGORIES:Corsi conclusi
ATTACH;FMTTYPE=image/jpeg:https://www.riwega.com/wp-content/uploads/2024/03/Locandina_ARCA_Alessandria_4__page-0001.jpg
END:VEVENT
END:VCALENDAR