BEGIN:VCALENDAR
VERSION:2.0
PRODID:-//RIWEGA - ECPv4.6.8//NONSGML v1.0//EN
CALSCALE:GREGORIAN
METHOD:PUBLISH
X-WR-CALNAME:RIWEGA
X-ORIGINAL-URL:https://www.riwega.com
X-WR-CALDESC:Events for RIWEGA
BEGIN:VEVENT
DTSTART;TZID=UTC+2:20240528T083000
DTEND;TZID=UTC+2:20240528T153000
DTSTAMP:20260426T025530
CREATED:20240517T071156Z
LAST-MODIFIED:20240603T111405Z
UID:99380-1716885000-1716910200@www.riwega.com
SUMMARY:Arca in Tour – Bergamo
DESCRIPTION:[vc_row][vc_column][/vc_column][/vc_row][vc_row][vc_column] \nPENSARE\, COSTRUIRE\, ABITARE: il legno per l’abitare del domani.\n[vc_column_text]Data: 28.05.2024\nOrario: 08:30 – 15:30\nLuogo: VILLA REDONA – Via Redona 14\, Trescore Balneario (BG)[/vc_column_text]Iscriviti \n\n	\nScarica il programma   [/vc_column][/vc_row] \n
URL:https://www.riwega.com/evento/arca-in-tour-bergamo/
LOCATION:Via Redona 14\, Trescore Balneario\, Bergamo\, Italia
CATEGORIES:Corsi conclusi
ATTACH;FMTTYPE=image/jpeg:https://www.riwega.com/wp-content/uploads/2024/05/Locandina_Bergamo_page-0001.jpg
END:VEVENT
END:VCALENDAR