BEGIN:VCALENDAR
VERSION:2.0
PRODID:-//RIWEGA - ECPv4.6.8//NONSGML v1.0//EN
CALSCALE:GREGORIAN
METHOD:PUBLISH
X-WR-CALNAME:RIWEGA
X-ORIGINAL-URL:https://www.riwega.com
X-WR-CALDESC:Events for RIWEGA
BEGIN:VEVENT
DTSTART;TZID=UTC+2:20240508T083000
DTEND;TZID=UTC+2:20240508T163000
DTSTAMP:20260426T035905
CREATED:20240418T091328Z
LAST-MODIFIED:20240514T120004Z
UID:99080-1715157000-1715185800@www.riwega.com
SUMMARY:Arca in Tour – Ancona
DESCRIPTION:[vc_row][vc_column][/vc_column][/vc_row][vc_row][vc_column] \nPENSARE\, COSTRUIRE\, ABITARE: il legno per l’abitare del domani.\n[vc_column_text]Data: 08.05.2024\nOrario: 08:30 – 16:30\nLuogo: Fortino Napoleonico\, Via Poggio\, 166 – Portonovo (AN)[/vc_column_text]Iscriviti \n\n	\nScarica il programma   [/vc_column][/vc_row] \n
URL:https://www.riwega.com/evento/arca-in-tour-ancona/
LOCATION:Via Poggio\, 166\, Portonovo\, Ancona\, Italia
CATEGORIES:Corsi conclusi
ATTACH;FMTTYPE=image/jpeg:https://www.riwega.com/wp-content/uploads/2024/04/Tappa_Ancona_page-0001.jpg
END:VEVENT
END:VCALENDAR