BEGIN:VCALENDAR
VERSION:2.0
PRODID:-//RIWEGA - ECPv4.6.8//NONSGML v1.0//EN
CALSCALE:GREGORIAN
METHOD:PUBLISH
X-WR-CALNAME:RIWEGA
X-ORIGINAL-URL:https://www.riwega.com
X-WR-CALDESC:Events for RIWEGA
BEGIN:VEVENT
DTSTART;TZID=UTC+2:20250530T150000
DTEND;TZID=UTC+2:20250530T190000
DTSTAMP:20260425T122503
CREATED:20250521T131259Z
LAST-MODIFIED:20250605T084956Z
UID:110493-1748617200-1748631600@www.riwega.com
SUMMARY:4 CFP - Seminario dalla progettazione al cantiere - Grosseto
DESCRIPTION:[vc_row][vc_column][/vc_column][/vc_row][vc_row][vc_column] \nFisica tecnica e impermeabilizzazione della struttura in legno.\n[vc_column_text]Data: 30.05.2025\nOrario: 15:00 – 19:00\nLuogo: Presso Cantiere “Fabbricato unifamiliare”\, Via A. Sordi 5 – 58100 Grosseto (GR)[/vc_column_text]Iscriviti \n\n	\nScarica il programma   [/vc_column][/vc_row] \n
URL:https://www.riwega.com/evento/4-cfp-seminario-dalla-progettazione-al-cantiere-grosseto/
LOCATION:Via A. Sordi 5\,\, Grosseto\, Grosseto\, 58100\, Italia
CATEGORIES:Corsi conclusi
ATTACH;FMTTYPE=image/jpeg:https://www.riwega.com/wp-content/uploads/2025/05/Locandina-Ciabatti-30_05_page-0001-1.jpg
ORGANIZER;CN="Riwega":MAILTO:info@riwega.com
END:VEVENT
END:VCALENDAR