BEGIN:VCALENDAR
VERSION:2.0
PRODID:-//RIWEGA - ECPv4.6.8//NONSGML v1.0//EN
CALSCALE:GREGORIAN
METHOD:PUBLISH
X-WR-CALNAME:RIWEGA
X-ORIGINAL-URL:https://www.riwega.com/es
X-WR-CALDESC:Events for RIWEGA
BEGIN:VEVENT
DTSTART;VALUE=DATE:20240227
DTEND;VALUE=DATE:20240229
DTSTAMP:20260426T040001
CREATED:20240129T142444Z
LAST-MODIFIED:20240129T143234Z
UID:97209-1708992000-1709164799@www.riwega.com
SUMMARY:Forum Wood Building Baltic
DESCRIPTION:[vc_row][vc_column] \nForum Wood Building Baltic\n[vc_column_text] \nIl Forum Wood Building Baltic è una conferenza con annessa esposizione di aziende selezionate legate alle costruzioni in legno. L’obiettivo è quello di creare un ponte tra il mondo accademico e la pratica e di presentare gli ultimi sviluppi internazionali dell’architettura\, dell’ingegneria e della tecnologia del legno a un pubblico di professionisti dell’edilizia.\nRiwega ti aspetta!\n[/vc_column_text][/vc_column][/vc_row] \n
URL:https://www.riwega.com/es/evento/forum-wood-building-baltic/
CATEGORIES:Férias concluidas
ATTACH;FMTTYPE=image/jpeg:https://www.riwega.com/wp-content/uploads/2024/01/Logo-Forum-Holzbau-Tallinn.jpg
END:VEVENT
END:VCALENDAR