BEGIN:VCALENDAR
VERSION:2.0
PRODID:-//RIWEGA - ECPv4.6.8//NONSGML v1.0//EN
CALSCALE:GREGORIAN
METHOD:PUBLISH
X-WR-CALNAME:RIWEGA
X-ORIGINAL-URL:https://www.riwega.com/es
X-WR-CALDESC:Events for RIWEGA
BEGIN:VEVENT
DTSTART;VALUE=DATE:20240605
DTEND;VALUE=DATE:20240607
DTSTAMP:20260426T002941
CREATED:20230419T123949Z
LAST-MODIFIED:20240405T090204Z
UID:91052-1717545600-1717718399@www.riwega.com
SUMMARY:Fórum de Construcción con Madera
DESCRIPTION:[vc_row][vc_column] \nFórum de Construcción con Madera\n[vc_column_text] \nEl Fórum de Construcción con Madera ofrece a diseñadores\, arquitectos\, ingenieros y constructores la oportunidad de intercambiar ideas\, información y visiones de futuro sobre el mundo de la construcción con madera.\n\n¡Riwega te espera!\n[/vc_column_text][/vc_column][/vc_row] \n
URL:https://www.riwega.com/es/evento/forum-de-construccion-con-madera/
LOCATION:Pl. del Baluarte\, Pamplona\, 31002\, Spagna
CATEGORIES:Férias concluidas
ATTACH;FMTTYPE=image/jpeg:https://www.riwega.com/wp-content/uploads/2023/04/Logo-Forum-de-Construccion-con-Madera.jpg
END:VEVENT
END:VCALENDAR