BEGIN:VCALENDAR
VERSION:2.0
PRODID:-//RIWEGA - ECPv4.6.8//NONSGML v1.0//EN
CALSCALE:GREGORIAN
METHOD:PUBLISH
X-WR-CALNAME:RIWEGA
X-ORIGINAL-URL:https://www.riwega.com/es
X-WR-CALDESC:Events for RIWEGA
BEGIN:VEVENT
DTSTART;VALUE=DATE:20240305
DTEND;VALUE=DATE:20240309
DTSTAMP:20260426T035952
CREATED:20240126T085056Z
LAST-MODIFIED:20240126T123114Z
UID:97081-1709596800-1709942399@www.riwega.com
SUMMARY:DACH+HOLZ International
DESCRIPTION:[vc_row][vc_column] \nDACH+HOLZ International\n[vc_column_text] \nTutti i temi e i prodotti relativi all’involucro edilizio rendono la fiera DACH+HOLZ un evento molto apprezzato da tutti i professionisti del settore. Dai carpentieri agli idraulici\, dagli architetti all’industria immobiliare: è qui che i principali attori del settore si incontrano e si divertono.\nRiwega ti aspetta allo stand 6.320!\n[/vc_column_text][/vc_column][/vc_row] \n
URL:https://www.riwega.com/es/evento/dachholz-international-2/
CATEGORIES:Férias concluidas
ATTACH;FMTTYPE=image/jpeg:https://www.riwega.com/wp-content/uploads/2021/11/LogoDachHolz.jpg
END:VEVENT
END:VCALENDAR