BEGIN:VCALENDAR
VERSION:2.0
PRODID:-//RIWEGA - ECPv4.6.8//NONSGML v1.0//EN
CALSCALE:GREGORIAN
METHOD:PUBLISH
X-WR-CALNAME:RIWEGA
X-ORIGINAL-URL:https://www.riwega.com/es
X-WR-CALDESC:Events for RIWEGA
BEGIN:VEVENT
DTSTART;VALUE=DATE:20240322
DTEND;VALUE=DATE:20240323
DTSTAMP:20260426T040425
CREATED:20240208T141800Z
LAST-MODIFIED:20240208T142632Z
UID:97283-1711065600-1711151999@www.riwega.com
SUMMARY:Convegno YouTrade
DESCRIPTION:[vc_row][vc_column] \nConvegno YouTrade\n[vc_column_text] \n\nSviluppare l’edilizia e la distribuzione al sud. È l’occasione giusta! Partecipa al Convegno YouTrade venerdì 22 marzo a Lamezia Terme\, ci saranno i più importanti rivenditori del Centro-Sud Italia.\nRiwega ti aspetta! \n\n[/vc_column_text][/vc_column][/vc_row] \n
URL:https://www.riwega.com/es/evento/convegno-youtrade-3/
LOCATION:SS 280 DEI DUE MARI\, Lamezia Terme\, CZ\, 88040\, Italia
CATEGORIES:Férias concluidas
ATTACH;FMTTYPE=image/jpeg:https://www.riwega.com/wp-content/uploads/2023/02/Logo-YouTrade.jpg
END:VEVENT
END:VCALENDAR