BEGIN:VCALENDAR
VERSION:2.0
PRODID:-//RIWEGA - ECPv4.6.8//NONSGML v1.0//EN
CALSCALE:GREGORIAN
METHOD:PUBLISH
X-WR-CALNAME:RIWEGA
X-ORIGINAL-URL:https://www.riwega.com/en
X-WR-CALDESC:Events for RIWEGA
BEGIN:VEVENT
DTSTART;VALUE=DATE:20250129
DTEND;VALUE=DATE:20250202
DTSTAMP:20260425T115950
CREATED:20211103T145135Z
LAST-MODIFIED:20241023T124447Z
UID:67682-1738108800-1738454399@www.riwega.com
SUMMARY:Klimahouse
DESCRIPTION:[vc_row][vc_column] \nKlimahouse\n[vc_column_text] \n\n\n\n\nBuild well. Live well. \n\n\n\n\nWe are ready for the event of the year!\nKlimahouse is the international event for energetic energy-efficient and sustainable construction sector. \n\n\n\nRiwega\, 3therm and RoofRox are looking forward of seeing you at our Stand B07/20-24.\n\n[/vc_column_text][/vc_column][/vc_row][vc_row][vc_column][/vc_column][/vc_row] \n
URL:https://www.riwega.com/en/evento/klimahouse-2025/
LOCATION:Piazza Fiera 1 I\, Bolzano\, BZ\, 39100\, Italia
GEO:46.4718564;11.3268727
X-APPLE-STRUCTURED-LOCATION;VALUE=URI;X-ADDRESS=Piazza Fiera 1 I Bolzano BZ 39100 Italia;X-APPLE-RADIUS=500;X-TITLE=Piazza Fiera 1 I:geo:11.3268727,46.4718564
CATEGORIES:Concluded fairs
ATTACH;FMTTYPE=image/jpeg:https://www.riwega.com/wp-content/uploads/2024/10/Logo-KH-2025.jpg
END:VEVENT
END:VCALENDAR