BEGIN:VCALENDAR
VERSION:2.0
PRODID:-//RIWEGA - ECPv4.6.8//NONSGML v1.0//EN
CALSCALE:GREGORIAN
METHOD:PUBLISH
X-WR-CALNAME:RIWEGA
X-ORIGINAL-URL:https://www.riwega.com/en
X-WR-CALDESC:Events for RIWEGA
BEGIN:VEVENT
DTSTART;VALUE=DATE:20241024
DTEND;VALUE=DATE:20241025
DTSTAMP:20260419T202755
CREATED:20230829T073037Z
LAST-MODIFIED:20240618T093208Z
UID:95354-1729728000-1729814399@www.riwega.com
SUMMARY:Convegno YouTrade
DESCRIPTION:[vc_row][vc_column] \nConvegno YouTrade\n[vc_column_text] \nThe 17th YouTrade Conference will focus on the choices that cannot be postponed by companies reselling materials and building services. Technology\, financial management and market prospects will be among the topics addressed\, together with the unprecedented testimony of protagonists of distribution abroad\, also called upon to express an opinion on distribution in Italy.\nRiwega is looking forward of seeing you!\n[/vc_column_text][/vc_column][/vc_row] \n
URL:https://www.riwega.com/en/evento/convegno-youtrade-2/
LOCATION:Via Ospedaletto\, 57\, Ospedaletto\, VR\, 37026\, Italia
CATEGORIES:Concluded fairs
ATTACH;FMTTYPE=image/jpeg:https://www.riwega.com/wp-content/uploads/2023/02/Logo-YouTrade.jpg
END:VEVENT
END:VCALENDAR