BEGIN:VCALENDAR
VERSION:2.0
PRODID:-//RIWEGA - ECPv4.6.8//NONSGML v1.0//EN
CALSCALE:GREGORIAN
METHOD:PUBLISH
X-WR-CALNAME:RIWEGA
X-ORIGINAL-URL:https://www.riwega.com/de
X-WR-CALDESC:Events for RIWEGA
BEGIN:VEVENT
DTSTART;VALUE=DATE:20240322
DTEND;VALUE=DATE:20240323
DTSTAMP:20260426T035945
CREATED:20240208T141800Z
LAST-MODIFIED:20240208T142127Z
UID:97282-1711065600-1711151999@www.riwega.com
SUMMARY:YouTrade Konferenz
DESCRIPTION:[vc_row][vc_column] \nYouTrade Konferenz\n[vc_column_text] \n\nEntwicklung von Bau und Vertrieb im Süden. Das ist die richtige Gelegenheit! Besuchen Sie die YouTrade Convention am Freitag\, den 22. März in Lamezia Terme\, wo die wichtigsten Einzelhändler aus Mittel- und Süditalien anwesend sein werden.\nRiwega erwartet Sie! \n\n[/vc_column_text][/vc_column][/vc_row] \n
URL:https://www.riwega.com/de/evento/youtrade-konferenz/
LOCATION:SS 280 DEI DUE MARI\, Lamezia Terme\, CZ\, 88040\, Italia
CATEGORIES:Vergangene Messen
ATTACH;FMTTYPE=image/jpeg:https://www.riwega.com/wp-content/uploads/2023/02/Logo-YouTrade.jpg
END:VEVENT
END:VCALENDAR