BEGIN:VCALENDAR
VERSION:2.0
PRODID:-//RIWEGA - ECPv4.6.8//NONSGML v1.0//EN
CALSCALE:GREGORIAN
METHOD:PUBLISH
X-WR-CALNAME:RIWEGA
X-ORIGINAL-URL:https://www.riwega.com/de
X-WR-CALDESC:Events for RIWEGA
BEGIN:VEVENT
DTSTART;VALUE=DATE:20240411
DTEND;VALUE=DATE:20240414
DTSTAMP:20260426T024347
CREATED:20240208T133419Z
LAST-MODIFIED:20240208T135615Z
UID:97256-1712793600-1713052799@www.riwega.com
SUMMARY:YED Yellow Expo Days
DESCRIPTION:[vc_row][vc_column] \nYED Yellow Expo Days\n[vc_column_text] \nDie einzige Messe in Italien\, die Fachleute aus den Bereichen Holz\, Aluminium\, Eisen und PVC-Fenster und -Türen zu einem Moment des Wissens\, der Begegnung und des Austauschs zusammenbringt.\nRiwega\, 3therm und RoofRox erwarten Sie auf unserem Stand H1!\n[/vc_column_text][/vc_column][/vc_row] \n
URL:https://www.riwega.com/de/evento/yed-yellow-expo-days/
LOCATION:Via dell'Oreficeria 16\, Vicenza\, VI\, 36100\, Italia
CATEGORIES:Vergangene Messen
ATTACH;FMTTYPE=image/jpeg:https://www.riwega.com/wp-content/uploads/2024/02/Logo-YED.jpg
END:VEVENT
END:VCALENDAR