BEGIN:VCALENDAR
VERSION:2.0
PRODID:-//RIWEGA - ECPv4.6.8//NONSGML v1.0//EN
CALSCALE:GREGORIAN
METHOD:PUBLISH
X-WR-CALNAME:RIWEGA
X-ORIGINAL-URL:https://www.riwega.com/de
X-WR-CALDESC:Events for RIWEGA
BEGIN:VEVENT
DTSTART;VALUE=DATE:20240919
DTEND;VALUE=DATE:20240924
DTSTAMP:20260420T011658
CREATED:20190918T110435Z
LAST-MODIFIED:20240724T092455Z
UID:40712-1726704000-1727135999@www.riwega.com
SUMMARY:Salon Habitat et Bois
DESCRIPTION:[vc_row][vc_column] \nSalon Habitat et Bois\n[vc_column_text] \n\nDie Messe Habitat et Bois\, Jahrgang 2024\, ist eine echte Referenz für die neuesten Trends in den Bereichen Wohnen\, Holzbau und Renovierung und wird attraktiver denn je.\nRiwega erwartet Sie im Parc des Expositions in Epinal\, Grande Halle – Stand 97! \n\n[/vc_column_text][/vc_column][/vc_row] \n
URL:https://www.riwega.com/de/evento/salon-habitat-et-bois/
CATEGORIES:Vergangene Messen
ATTACH;FMTTYPE=image/png:https://www.riwega.com/wp-content/uploads/2019/09/Epinal-1.png
END:VEVENT
END:VCALENDAR