BEGIN:VCALENDAR
VERSION:2.0
PRODID:-//RIWEGA - ECPv4.6.8//NONSGML v1.0//EN
CALSCALE:GREGORIAN
METHOD:PUBLISH
X-WR-CALNAME:RIWEGA
X-ORIGINAL-URL:https://www.riwega.com/de
X-WR-CALDESC:Events for RIWEGA
BEGIN:VEVENT
DTSTART;VALUE=DATE:20240319
DTEND;VALUE=DATE:20240322
DTSTAMP:20260426T035807
CREATED:20240208T093857Z
LAST-MODIFIED:20240209T150029Z
UID:97240-1710806400-1711065599@www.riwega.com
SUMMARY:REBUILD
DESCRIPTION:[vc_row][vc_column] \nREBUILD\n[vc_column_text] \nREBUILD ist Spaniens führende Fachmesse für den Wandel des Bauwesens von der traditionellen zur industrialisierten Welt. Ziel ist es\, diesen Sektor wettbewerbsfähiger\, technologischer und digitalisierter zu machen\, was eine Voraussetzung für das Erreichen der europäischen Nachhaltigkeitsziele ist.\nRiwega erwartet Sie auf dem Stand 7C333!\n[/vc_column_text][/vc_column][/vc_row] \n
URL:https://www.riwega.com/de/evento/rebuild-3/
LOCATION:Avda. del Partenón\, 5\, Madrid\, 28042\, Spagna
CATEGORIES:Vergangene Messen
ATTACH;FMTTYPE=image/jpeg:https://www.riwega.com/wp-content/uploads/2021/08/Logo-Rebuild.jpg
END:VEVENT
END:VCALENDAR