BEGIN:VCALENDAR
VERSION:2.0
PRODID:-//RIWEGA - ECPv4.6.8//NONSGML v1.0//EN
CALSCALE:GREGORIAN
METHOD:PUBLISH
X-WR-CALNAME:RIWEGA
X-ORIGINAL-URL:https://www.riwega.com/de
X-WR-CALDESC:Events for RIWEGA
BEGIN:VEVENT
DTSTART;VALUE=DATE:20241206
DTEND;VALUE=DATE:20241207
DTSTAMP:20260419T171204
CREATED:20240807T130809Z
LAST-MODIFIED:20240807T131839Z
UID:100836-1733443200-1733529599@www.riwega.com
SUMMARY:Convegno YouTrade - Spengler
DESCRIPTION:[vc_row][vc_column] \nConvegno YouTrade – Spengler\n[vc_column_text] \n\nRiwega und RoofRox werden an der ersten nationalen Konferenz der Spengler teilnehmen.\nDas Thema lautet: „Die Spenglerei vor der Herausforderung des Wandels: Wie man sich dem neuen Markt von 2025 stellt und ihn gewinnt“.\nWir erwarten Sie! \n\n[/vc_column_text][/vc_column][/vc_row] \n
URL:https://www.riwega.com/de/evento/convegno-youtrade-spengler/
LOCATION:Via Ospedaletto\, 57\, Ospedaletto\, VR\, 37026\, Italia
CATEGORIES:Vergangene Messen
ATTACH;FMTTYPE=image/jpeg:https://www.riwega.com/wp-content/uploads/2023/02/Logo-YouTrade.jpg
END:VEVENT
END:VCALENDAR