BEGIN:VCALENDAR
VERSION:2.0
PRODID:-//RIWEGA - ECPv4.6.8//NONSGML v1.0//EN
CALSCALE:GREGORIAN
METHOD:PUBLISH
X-WR-CALNAME:RIWEGA
X-ORIGINAL-URL:https://www.riwega.com/de
X-WR-CALDESC:Events for RIWEGA
BEGIN:VEVENT
DTSTART;VALUE=DATE:20241204
DTEND;VALUE=DATE:20241207
DTSTAMP:20260419T184824
CREATED:20221110T133610Z
LAST-MODIFIED:20240618T100038Z
UID:88888-1733270400-1733529599@www.riwega.com
SUMMARY:28. Internationales Holzbau-Forum
DESCRIPTION:[vc_row][vc_column] \n28. Internationales Holzbau-Forum\n[vc_column_text] \nDas Internationale Holzbau-Forum bietet Holzbauern\, Planern\, Ingenieuren sowie Architekten die Gelegenheit über Erfahrungen\, Arbeiten und Ziele mit Holztragwerken bzw. Holzkonstruktionen zu berichten.\n\nRiwega erwartet Sie!\n[/vc_column_text][/vc_column][/vc_row] \n
URL:https://www.riwega.com/de/evento/28-internationales-holzbau-forum/
LOCATION:Rennweg 3\, Innsbruck\, 6020\, Austria
CATEGORIES:Vergangene Messen
ATTACH;FMTTYPE=image/jpeg:https://www.riwega.com/wp-content/uploads/2021/11/Logo-Forum-Holzbau-Innsbruck.jpg
END:VEVENT
END:VCALENDAR